BEGIN:VCALENDAR
VERSION:2.0
PRODID:-//Sulphur River Basin Authority - ECPv4.9.2//NONSGML v1.0//EN
CALSCALE:GREGORIAN
METHOD:PUBLISH
X-WR-CALNAME:Sulphur River Basin Authority
X-ORIGINAL-URL:http://srbatx.org
X-WR-CALDESC:Events for Sulphur River Basin Authority
BEGIN:VEVENT
DTSTART;TZID=UTC-6:20210921T130000
DTEND;TZID=UTC-6:20210921T170000
DTSTAMP:20210922T040751
CREATED:20210915T134432Z
LAST-MODIFIED:20210915T134432Z
UID:96789-1632229200-1632243600@srbatx.org
SUMMARY:SRBA BOARD MEETING TUESDAY\, SEPTEMBER 21\, 2021
DESCRIPTION:THE SULPHUR RIVER BASIN AUTHOITY\nBOARD OF DIRECTOR MONTHLY MEETING\nTUESDAY\, SEPTEMBER 21\, 2021 @ 1:00 P.M. AT THE\nMT. PLEASANT CIVIC CENTER @ 1800 N. JEFFERSON STREET IN\nMT. PLEASANT\, TEXAS\nALL INTERESTED PARTIES ARE INVITED TO ATTEND \nNotice is hereby given to the Texas Open Meeting Act\, Chapter 551\, Texas Government Code\, that the Board of Directors of the Sulphur River Basin Authority will conduct a meeting\, open to the public\, on Tuesday\, September\n21st\, 2021\, at 1:00p.m.\, at the Mt. Pleasant Civic Center\, 1800 N. Jefferson Street\, Mt. Pleasant\, Texas. \nThe Board of Directors may discuss\, consider\, and take all necessary action\, including possible expenditure of funds\, regarding any of the agenda item below. The Board of Directors is authorized by the Texas Open Meeting Act\, Chapter 551\, Texas Government Code\, to convene in a close executive session for certain purposes at any time to discuss any item on the board meeting agenda. Theses purposes include receiving legal advice from its\nAttorney (Section 551.071); discussing real property matter (Section 551.072); discussing gifts and donations (Section 551.073); or discussing personnel matter (Section 551.074); discussing security personnel or devices\n(Section 551.076); or discussing economic development matter (Section 551.087). If the Board of Directors makes\nA determination to go into a closed executive session on any item on this agenda\, the Presiding Officer will announce that a closed executive session will be held and will identify the item to be discussed and provision of\nThe Open Meeting Act that authorizes the closed executive session. \nA G E N D A \n\nMeeting called to order at 1:00 p.m. and welcome all in attendance.\nInvocation.\nPublic Comments.\nDiscuss and take action on the approval of the Minutes for August 17\, 2021.\nDiscuss and take action on the approval of the expenditure reports.\nDiscuss and take action on “Contract” between SRBA and Water Monitoring Solutions.\nDiscuss and take action on the Amendments to the SRBA FY2022 Annual Budget.\nUpdate on the Clean Rivers Program.\nReports of regional entities:\n(A). RWRD\n(B). Region D\n(C). Flood Planning Group\nReports and updates from Chris Hartung\, executive Director\, on his monthly activities.\nAnnouncements from the Chairman and/or Staff:\nAdjournment.\n\n
URL:http://srbatx.org/event/srba-board-meeting-tuesday-september-21-2021/
LOCATION:Mount Pleasant Civic Center\, 1800 N. Jefferson\, Mount Pleasant \, TX\, 75455\, United States
CATEGORIES:board meeting
END:VEVENT
END:VCALENDAR