BEGIN:VCALENDAR
VERSION:2.0
PRODID:-//Sulphur River Basin Authority - ECPv4.9.2//NONSGML v1.0//EN
CALSCALE:GREGORIAN
METHOD:PUBLISH
X-WR-CALNAME:Sulphur River Basin Authority
X-ORIGINAL-URL:http://srbatx.org
X-WR-CALDESC:Events for Sulphur River Basin Authority
BEGIN:VEVENT
DTSTART;TZID=UTC-6:20160517T130000
DTEND;TZID=UTC-6:20160517T150000
DTSTAMP:20210606T224905
CREATED:20160507T022007Z
LAST-MODIFIED:20160507T022826Z
UID:3190-1463490000-1463497200@srbatx.org
SUMMARY:NOTICE OF MAY 2016 SRBA BOARD OF DIRECTORS MEETING
DESCRIPTION:NOTICE OF THE SULPHUR RIVER BASIN AUTHORITY \nBOARD OF DIRECTORS MEETING \nA REGULAR SRBA BOARD OF DIRECTORS MEETING WILL BE HELD ON \nTUESDAY\, MAY 17TH\, 2016 AT 1:00 P.M. AT THE \nMT. PLEASANT CIVIC CENTER AT 1800 N. JEFFERSON STREET IN \nMT. PLEASANT\, TEXAS \nALL INTERESTED PARTIES ARE INVITED TO ATTEND \n  \n  \nA    G    E    N    D    A \n  \n\nMeeting called to order at 1:00 P.M.\nInvocation.\nDiscuss and take action on the approval of the minutes for April 19\, 2016.\nPublic Comments.\nDiscuss and take action on the reports of the Cash Position & Expenditure.  \nReview and approve proposed annual budget that will be submitted to JCPD concerning cost of operations of SRBA for the year beginning September 1\, 2016.\nDiscuss and take action concerning issues and recommendations applicable to SRBA set forth in Summary of Sunset Staff recommendations of Sunset Advisory Commission dated April 2016.\nDiscuss and take action concerning public relations program.\nDiscuss and take actions concerning revision and amendment of Employee Policy Manual as applicable to Nancy Rose\, Administrator of SRBA.\nUpdates on the Clean Rivers Program.\nUpdates on Feasibility Study.\nUpdates on Region D.\nAnnouncements from the Board of Directors and/or Staff.\nAdjournment.\n\n
URL:http://srbatx.org/event/notice-of-may-2016-srba-board-of-directors-meeting/
LOCATION:Mount Pleasant Civic Center\, 1800 N. Jefferson\, Mount Pleasant \, TX\, 75455\, United States
ORGANIZER;CN="Nancy%20Rose":MAILTO:nrsrba@cableone.net
END:VEVENT
END:VCALENDAR