BEGIN:VCALENDAR
VERSION:2.0
PRODID:-//Sulphur River Basin Authority - ECPv4.9.2//NONSGML v1.0//EN
CALSCALE:GREGORIAN
METHOD:PUBLISH
X-WR-CALNAME:Sulphur River Basin Authority
X-ORIGINAL-URL:http://srbatx.org
X-WR-CALDESC:Events for Sulphur River Basin Authority
BEGIN:VEVENT
DTSTART;TZID=UTC-6:20200114T090000
DTEND;TZID=UTC-6:20200114T110000
DTSTAMP:20210516T234146
CREATED:20200110T143419Z
LAST-MODIFIED:20200110T143419Z
UID:67797-1578992400-1578999600@srbatx.org
SUMMARY:JOINT MEETING OF REGION C AND REGION D COORDINATION SUBCOMMITTEES
DESCRIPTION:THE SULPHUR RIVER BASIN AUTHORITY BOARD OF DIRECTORS \nIN ATTENDANCE ONLY * \nOPEN PUBLIC MEETING \n\nJOINT MEETING OF REGION C AND REGION D COORDINATION SUBCOMMITTEES \nTUESDAY\, JANUARY 14\, 2020 @ 9:00 A.M. \nHopkins County Regional Civic Center \n1200 Houston Street\, Hopkins County \nSulphur Springs\, Texas \n  \nAGENDA \n\nCall to order by the Chairman.\nPresentation by Robert Gulley\, Mediator for the Texas Water Development Board\,  regarding a proposal for possibly reaching agreement on the Initially Prepared Plans of the Regions C and Region D Water Planning Groups.RC\nPublic Comments.\n\n      Any person wishing to make an oral presentation to the Coordination Subcommittee must  \n      complete a registration form with the speaker’s name\, address and other relevant  \n      information. Speakers who have not completed a registration form will not be recognized. \n      Each speaker shall be limited to three minutes. Speakers may not trade or donate time to  \n      other speakers. \n\n   Facilitated discussions chaired by Robert Gulley between the Coordination Subcommittee\n\n       of Regions C and Region D. \n\n   Discussion of future actions of the Region C and Region D Coordination Subcommittees.\n\n  \nSULPHUR RIVER BASIN AUTHORITY \nDIRECTORS AND STAKEHOLDERS \nARE ENCOURAGED TO ATTEND THE OPEN MEETING BETWEEN \nTHE REGION C AND REGION D COORDINATION SUBCOMMITTEES. \n  \nTHE SULPHUR RIVER BASIN AUTHORITY BOARD OF DIRECTORS IN ATTENDANCE \nWILL NOT VOTE ON ANY ITEM AT THE MEETING. \n
URL:http://srbatx.org/event/joint-meeting-of-region-c-and-region-d-coordination-subcommittees-3/
LOCATION:Hopkins County Regional Civic Center\, 1200 Houston Street\, Sulphur Springs\, TX\, United States
CATEGORIES:board meeting
END:VEVENT
END:VCALENDAR